BEGIN:VCALENDAR
VERSION:2.0
PRODID:icalendar-ruby
CALSCALE:GREGORIAN
METHOD:PUBLISH
BEGIN:VEVENT
DTSTAMP:20260423T233612Z
UID:30-1719601@elshaddaiusa.org
DTSTART:20261025T210000Z
DTEND:20261025T220000Z
CLASS:PUBLIC
CREATED:20260423T152404
DESCRIPTION:Servicio de Adoracion y Alabanza
LAST-MODIFIED:20260423T152404
LOCATION:1721 N. Charlotte Avenue Monroe\, NC 28110
SUMMARY:Servicio de Adoracion y Alabanza
URL;VALUE=URI:https://www.elshaddaiusa.org/events/servicio-de-adoracion-y-a
 labanza--30/2026-10-25
END:VEVENT
END:VCALENDAR
