BEGIN:VCALENDAR
VERSION:2.0
PRODID:icalendar-ruby
CALSCALE:GREGORIAN
METHOD:PUBLISH
BEGIN:VEVENT
DTSTAMP:20260423T203233Z
UID:30-1718548@elshaddaiusa.org
DTSTART:20261011T210000Z
DTEND:20261011T220000Z
CLASS:PUBLIC
CREATED:20260423T122951
DESCRIPTION:Servicio de Adoracion y Alabanza
LAST-MODIFIED:20260423T122951
LOCATION:1721 N. Charlotte Avenue Monroe\, NC 28110
SUMMARY:Servicio de Adoracion y Alabanza
URL;VALUE=URI:https://www.elshaddaiusa.org/events/servicio-de-adoracion-y-a
 labanza--30/2026-10-11
END:VEVENT
END:VCALENDAR
