BEGIN:VCALENDAR
VERSION:2.0
PRODID:icalendar-ruby
CALSCALE:GREGORIAN
METHOD:PUBLISH
BEGIN:VEVENT
DTSTAMP:20260423T190922Z
UID:30-1717496@elshaddaiusa.org
DTSTART:20261004T210000Z
DTEND:20261004T220000Z
CLASS:PUBLIC
CREATED:20260423T093246
DESCRIPTION:Servicio de Adoracion y Alabanza
LAST-MODIFIED:20260423T093246
LOCATION:1721 N. Charlotte Avenue Monroe\, NC 28110
SUMMARY:Servicio de Adoracion y Alabanza
URL;VALUE=URI:https://www.elshaddaiusa.org/events/servicio-de-adoracion-y-a
 labanza--30/2026-10-04
END:VEVENT
END:VCALENDAR
