BEGIN:VCALENDAR
VERSION:2.0
PRODID:icalendar-ruby
CALSCALE:GREGORIAN
METHOD:PUBLISH
BEGIN:VEVENT
DTSTAMP:20260423T172327Z
UID:30-1717495@elshaddaiusa.org
DTSTART:20260927T210000Z
DTEND:20260927T220000Z
CLASS:PUBLIC
CREATED:20260423T093246
DESCRIPTION:Servicio de Adoracion y Alabanza
LAST-MODIFIED:20260423T093246
LOCATION:1721 N. Charlotte Avenue Monroe\, NC 28110
SUMMARY:Servicio de Adoracion y Alabanza
URL;VALUE=URI:https://www.elshaddaiusa.org/events/servicio-de-adoracion-y-a
 labanza--30/2026-09-27
END:VEVENT
END:VCALENDAR
