BEGIN:VCALENDAR
VERSION:2.0
PRODID:icalendar-ruby
CALSCALE:GREGORIAN
METHOD:PUBLISH
BEGIN:VEVENT
DTSTAMP:20260423T115150Z
UID:82-1715825@elshaddaiusa.org
DTSTART:20260801T021500Z
DTEND:20260801T031500Z
CLASS:PUBLIC
CREATED:20260423T034422
DESCRIPTION:Celebremos la Recuperación
LAST-MODIFIED:20260423T034422
LOCATION:1721 N. Charlotte Avenue\, Monroe\, NC 28110
SUMMARY:Celebremos la Recuperación
URL;VALUE=URI:https://www.elshaddaiusa.org/events/celebremos-la-recuperacio
 n/2026-07-31
ATTACH;FILENAME=CRanuncio.png;FMTTYPE=image/png:https://dq5pwpg1q8ru0.cloud
 front.net/2023/07/27/07/28/49/fa6af6e4-4048-40bd-9bfe-bfd9f54ff6f1/CRanunc
 io.png
END:VEVENT
END:VCALENDAR
